BEGIN:VCALENDAR
VERSION:2.0
CALSCALE:GREGORIAN
PRODID:-//Diputació de Barcelona//DibaCMS//EN
BEGIN:VEVENT
UID:23509
DTSTAMP:20260421T183720
DTSTART:20121222T100000
DTEND:20121222T220000
SUMMARY:XIV Marató de Piera Televisió
LOCATION:
METHOD:PUBLISH
X-WR-CALNAME:e-seu@ajpiera.cat
X-WR-TIMEZONE:Europe/Madrid
DESCRIPTION:XIV Marató de Piera Televisió

URI:https://www.viladepiera.cat/actualitat/agenda/xiv-marato-de-piera-televisio.html
CLASS:PUBLIC
END:VEVENT
END:VCALENDAR
