BEGIN:VCALENDAR
VERSION:2.0
CALSCALE:GREGORIAN
PRODID:-//Diputació de Barcelona//DibaCMS//EN
BEGIN:VEVENT
UID:23516
DTSTAMP:20260421T143919
DTSTART:20121225T180000
DTEND:20121225T210000
SUMMARY:XXIII Representació del Pessebre Vivent
LOCATION:
METHOD:PUBLISH
X-WR-CALNAME:e-seu@ajpiera.cat
X-WR-TIMEZONE:Europe/Madrid
DESCRIPTION:XXIII Representació del Pessebre Vivent

URI:https://www.viladepiera.cat/actualitat/agenda/xxiii-representacio-del-pessebre-vivent.html
CLASS:PUBLIC
END:VEVENT
END:VCALENDAR
