BEGIN:VCALENDAR
VERSION:2.0
CALSCALE:GREGORIAN
PRODID:-//Diputació de Barcelona//DibaCMS//EN
BEGIN:VEVENT
UID:23517
DTSTAMP:20260421T184203
DTSTART:20121226T090000
DTEND:20121226T000000
SUMMARY:60è Concurs de pessebres
LOCATION:
METHOD:PUBLISH
X-WR-CALNAME:e-seu@ajpiera.cat
X-WR-TIMEZONE:Europe/Madrid
DESCRIPTION:60è Concurs de pessebres
URI:https://www.viladepiera.cat/actualitat/agenda/60e-concurs-de-pessebres.html
CLASS:PUBLIC
END:VEVENT
END:VCALENDAR
