BEGIN:VCALENDAR
VERSION:2.0
CALSCALE:GREGORIAN
PRODID:-//Diputació de Barcelona//DibaCMS//EN
BEGIN:VEVENT
UID:23520
DTSTAMP:20260423T000900
DTSTART:20111005T100000
DTEND:20111005T150000
SUMMARY:Deixalleria mòbil (Sant Jaume)
LOCATION:
METHOD:PUBLISH
X-WR-CALNAME:e-seu@ajpiera.cat
X-WR-TIMEZONE:Europe/Madrid
DESCRIPTION:Deixalleria mòbil (Sant Jaume)
URI:https://www.viladepiera.cat/actualitat/agenda/deixalleria-mobil-sant-jaume.html
CLASS:PUBLIC
END:VEVENT
END:VCALENDAR
