BEGIN:VCALENDAR
VERSION:2.0
CALSCALE:GREGORIAN
PRODID:-//Diputació de Barcelona//DibaCMS//EN
BEGIN:VEVENT
UID:23522
DTSTAMP:20260421T211338
DTSTART:20121227T173000
DTEND:20121227T000000
SUMMARY:Taller infantil: Ram pataplam, ja és Nadal!
LOCATION:
METHOD:PUBLISH
X-WR-CALNAME:e-seu@ajpiera.cat
X-WR-TIMEZONE:Europe/Madrid
DESCRIPTION:Taller infantil: Ram pataplam, ja és Nadal!
URI:https://www.viladepiera.cat/actualitat/agenda/23522-taller-infantil-ram-pataplam-ja-es-nadal.html
CLASS:PUBLIC
END:VEVENT
END:VCALENDAR
