BEGIN:VCALENDAR
VERSION:2.0
CALSCALE:GREGORIAN
PRODID:-//Diputació de Barcelona//DibaCMS//EN
BEGIN:VEVENT
UID:23523
DTSTAMP:20260421T202900
DTSTART:20121229T170000
DTEND:20121229T000000
SUMMARY:Festa per als infants
LOCATION:
METHOD:PUBLISH
X-WR-CALNAME:e-seu@ajpiera.cat
X-WR-TIMEZONE:Europe/Madrid
DESCRIPTION:Festa per als infants
URI:https://www.viladepiera.cat/actualitat/agenda/festa-per-als-infants.html
CLASS:PUBLIC
END:VEVENT
END:VCALENDAR
