BEGIN:VCALENDAR
VERSION:2.0
CALSCALE:GREGORIAN
PRODID:-//Diputació de Barcelona//DibaCMS//EN
BEGIN:VEVENT
UID:23525
DTSTAMP:20260421T163115
DTSTART:20121229T000000
DTEND:20121230T000000
SUMMARY:XVI Saló de la Infància i la Joventut
LOCATION:
METHOD:PUBLISH
X-WR-CALNAME:e-seu@ajpiera.cat
X-WR-TIMEZONE:Europe/Madrid
DESCRIPTION:XVI Saló de la Infància i la Joventut

URI:https://www.viladepiera.cat/actualitat/agenda/xvi-salo-de-la-infancia-i-la-joventut.html
CLASS:PUBLIC
END:VEVENT
END:VCALENDAR
