BEGIN:VCALENDAR
VERSION:2.0
CALSCALE:GREGORIAN
PRODID:-//Diputació de Barcelona//DibaCMS//EN
BEGIN:VEVENT
UID:23527
DTSTAMP:20260421T181247
DTSTART:20121230T120000
DTEND:20121230T000000
SUMMARY:Patge reial al Portell
LOCATION:
METHOD:PUBLISH
X-WR-CALNAME:e-seu@ajpiera.cat
X-WR-TIMEZONE:Europe/Madrid
DESCRIPTION:Patge reial al Portell
URI:https://www.viladepiera.cat/actualitat/agenda/patge-reial-al-portell.html
CLASS:PUBLIC
END:VEVENT
END:VCALENDAR
