BEGIN:VCALENDAR
VERSION:2.0
CALSCALE:GREGORIAN
PRODID:-//Diputació de Barcelona//DibaCMS//EN
BEGIN:VEVENT
UID:23529
DTSTAMP:20260421T185721
DTSTART:20121231T000000
DTEND:20121231T000000
SUMMARY:Festes de cap d'any
LOCATION:
METHOD:PUBLISH
X-WR-CALNAME:e-seu@ajpiera.cat
X-WR-TIMEZONE:Europe/Madrid
DESCRIPTION:Festes de cap d'any

URI:https://www.viladepiera.cat/actualitat/agenda/23529-festes-de-cap-dany.html
CLASS:PUBLIC
END:VEVENT
END:VCALENDAR
