BEGIN:VCALENDAR
VERSION:2.0
CALSCALE:GREGORIAN
PRODID:-//Diputació de Barcelona//DibaCMS//EN
BEGIN:VEVENT
UID:23530
DTSTAMP:20260421T215616
DTSTART:20130101T000000
DTEND:20130101T000000
SUMMARY:Missa solemne d'any nou
LOCATION:
METHOD:PUBLISH
X-WR-CALNAME:e-seu@ajpiera.cat
X-WR-TIMEZONE:Europe/Madrid
DESCRIPTION:Missa solemne d'any nou

URI:https://www.viladepiera.cat/actualitat/agenda/missa-solemne-dany-nou.html
CLASS:PUBLIC
END:VEVENT
END:VCALENDAR
