BEGIN:VCALENDAR
VERSION:2.0
CALSCALE:GREGORIAN
PRODID:-//Diputació de Barcelona//DibaCMS//EN
BEGIN:VEVENT
UID:23532
DTSTAMP:20260423T040001
DTSTART:20111007T190000
DTEND:20111007T000000
SUMMARY:Inauguració de l'exposició: En cada gest...
LOCATION:
METHOD:PUBLISH
X-WR-CALNAME:e-seu@ajpiera.cat
X-WR-TIMEZONE:Europe/Madrid
DESCRIPTION:Inauguració de l'exposició: En cada gest...
URI:https://www.viladepiera.cat/actualitat/agenda/inauguracio-de-lexposicio-en-cada-gest.html
CLASS:PUBLIC
END:VEVENT
END:VCALENDAR
