BEGIN:VCALENDAR
VERSION:2.0
CALSCALE:GREGORIAN
PRODID:-//Diputació de Barcelona//DibaCMS//EN
BEGIN:VEVENT
UID:23535
DTSTAMP:20260421T201205
DTSTART:20130102T153000
DTEND:20130102T153000
SUMMARY:Inici d'exposició: L'aigua
LOCATION:
METHOD:PUBLISH
X-WR-CALNAME:e-seu@ajpiera.cat
X-WR-TIMEZONE:Europe/Madrid
DESCRIPTION:Inici d'exposició: L'aigua

URI:https://www.viladepiera.cat/actualitat/agenda/inici-dexposicio-laigua.html
CLASS:PUBLIC
END:VEVENT
END:VCALENDAR
