BEGIN:VCALENDAR
VERSION:2.0
CALSCALE:GREGORIAN
PRODID:-//Diputació de Barcelona//DibaCMS//EN
BEGIN:VEVENT
UID:23536
DTSTAMP:20260423T011248
DTSTART:20111007T170000
DTEND:20111007T180000
SUMMARY:Actuació de Fèlix el transformista
LOCATION:
METHOD:PUBLISH
X-WR-CALNAME:e-seu@ajpiera.cat
X-WR-TIMEZONE:Europe/Madrid
DESCRIPTION:Actuació de Fèlix el transformista
URI:https://www.viladepiera.cat/actualitat/agenda/actuacio-de-felix-el-transformista.html
CLASS:PUBLIC
END:VEVENT
END:VCALENDAR
