BEGIN:VCALENDAR
VERSION:2.0
CALSCALE:GREGORIAN
PRODID:-//Diputació de Barcelona//DibaCMS//EN
BEGIN:VEVENT
UID:23538
DTSTAMP:20260422T022036
DTSTART:20130104T153000
DTEND:20130104T153000
SUMMARY:Inici d'exposició: El despertar d'un sentiment
LOCATION:
METHOD:PUBLISH
X-WR-CALNAME:e-seu@ajpiera.cat
X-WR-TIMEZONE:Europe/Madrid
DESCRIPTION:Inici d'exposició: El despertar d'un sentiment

URI:https://www.viladepiera.cat/actualitat/agenda/inici-dexposicio-el-despertar-dun-sentiment.html
CLASS:PUBLIC
END:VEVENT
END:VCALENDAR
