BEGIN:VCALENDAR
VERSION:2.0
CALSCALE:GREGORIAN
PRODID:-//Diputació de Barcelona//DibaCMS//EN
BEGIN:VEVENT
UID:23542
DTSTAMP:20260421T215742
DTSTART:20130106T000000
DTEND:20130106T000000
SUMMARY:Missa solemne de Reis
LOCATION:
METHOD:PUBLISH
X-WR-CALNAME:e-seu@ajpiera.cat
X-WR-TIMEZONE:Europe/Madrid
DESCRIPTION:Missa solemne de Reis

URI:https://www.viladepiera.cat/actualitat/agenda/23542-missa-solemne-de-reis.html
CLASS:PUBLIC
END:VEVENT
END:VCALENDAR
