BEGIN:VCALENDAR
VERSION:2.0
CALSCALE:GREGORIAN
PRODID:-//Diputació de Barcelona//DibaCMS//EN
BEGIN:VEVENT
UID:23543
DTSTAMP:20260423T000800
DTSTART:20111007T200000
DTEND:20111007T000000
SUMMARY:Correllengua 2011
LOCATION:
METHOD:PUBLISH
X-WR-CALNAME:e-seu@ajpiera.cat
X-WR-TIMEZONE:Europe/Madrid
DESCRIPTION:Correllengua 2011
URI:https://www.viladepiera.cat/actualitat/agenda/23543-correllengua-2011.html
CLASS:PUBLIC
END:VEVENT
END:VCALENDAR
