BEGIN:VCALENDAR
VERSION:2.0
CALSCALE:GREGORIAN
PRODID:-//Diputació de Barcelona//DibaCMS//EN
BEGIN:VEVENT
UID:23545
DTSTAMP:20260421T112119
DTSTART:20130109T180000
DTEND:20130109T000000
SUMMARY:Rusquicontes: Cada matí surt el sol al meu jardí
LOCATION:
METHOD:PUBLISH
X-WR-CALNAME:e-seu@ajpiera.cat
X-WR-TIMEZONE:Europe/Madrid
DESCRIPTION:Rusquicontes: Cada matí surt el sol al meu jardí
URI:https://www.viladepiera.cat/actualitat/agenda/rusquicontes-cada-mati-surt-el-sol-al-meu-jardi.html
CLASS:PUBLIC
END:VEVENT
END:VCALENDAR
