BEGIN:VCALENDAR
VERSION:2.0
CALSCALE:GREGORIAN
PRODID:-//Diputació de Barcelona//DibaCMS//EN
BEGIN:VEVENT
UID:23547
DTSTAMP:20260423T000707
DTSTART:20111008T090000
DTEND:20111008T000000
SUMMARY:Torneig de petanca
LOCATION:
METHOD:PUBLISH
X-WR-CALNAME:e-seu@ajpiera.cat
X-WR-TIMEZONE:Europe/Madrid
DESCRIPTION:Torneig de petanca
URI:https://www.viladepiera.cat/actualitat/agenda/23547-torneig-de-petanca.html
CLASS:PUBLIC
END:VEVENT
END:VCALENDAR
