BEGIN:VCALENDAR
VERSION:2.0
CALSCALE:GREGORIAN
PRODID:-//Diputació de Barcelona//DibaCMS//EN
BEGIN:VEVENT
UID:23556
DTSTAMP:20260421T235327
DTSTART:20130115T183000
DTEND:20130115T000000
SUMMARY:Club de lectura: La mirada inocente
LOCATION:
METHOD:PUBLISH
X-WR-CALNAME:e-seu@ajpiera.cat
X-WR-TIMEZONE:Europe/Madrid
DESCRIPTION:Club de lectura: La mirada inocente
URI:https://www.viladepiera.cat/actualitat/agenda/club-de-lectura-la-mirada-inocente.html
CLASS:PUBLIC
END:VEVENT
END:VCALENDAR
