BEGIN:VCALENDAR
VERSION:2.0
CALSCALE:GREGORIAN
PRODID:-//Diputació de Barcelona//DibaCMS//EN
BEGIN:VEVENT
UID:23561
DTSTAMP:20260422T212524
DTSTART:20111010T180000
DTEND:20111010T000000
SUMMARY:Xerrada: Ús i abús dels medicaments
LOCATION:
METHOD:PUBLISH
X-WR-CALNAME:e-seu@ajpiera.cat
X-WR-TIMEZONE:Europe/Madrid
DESCRIPTION:Xerrada: Ús i abús dels medicaments
URI:https://www.viladepiera.cat/actualitat/agenda/xerrada-us-i-abus-dels-medicaments.html
CLASS:PUBLIC
END:VEVENT
END:VCALENDAR
