BEGIN:VCALENDAR
VERSION:2.0
CALSCALE:GREGORIAN
PRODID:-//Diputació de Barcelona//DibaCMS//EN
BEGIN:VEVENT
UID:23563
DTSTAMP:20260421T180939
DTSTART:20130116T180000
DTEND:20130116T180000
SUMMARY:Club de lectura infantil: Dies de classe
LOCATION:
METHOD:PUBLISH
X-WR-CALNAME:e-seu@ajpiera.cat
X-WR-TIMEZONE:Europe/Madrid
DESCRIPTION:Club de lectura infantil: Dies de classe

URI:https://www.viladepiera.cat/actualitat/agenda/23563-club-de-lectura-infantil-dies-de-classe.html
CLASS:PUBLIC
END:VEVENT
END:VCALENDAR
