BEGIN:VCALENDAR
VERSION:2.0
CALSCALE:GREGORIAN
PRODID:-//Diputació de Barcelona//DibaCMS//EN
BEGIN:VEVENT
UID:23564
DTSTAMP:20260421T191001
DTSTART:20130117T180000
DTEND:20130117T000000
SUMMARY:Rusquitaller: Un mar de colors
LOCATION:
METHOD:PUBLISH
X-WR-CALNAME:e-seu@ajpiera.cat
X-WR-TIMEZONE:Europe/Madrid
DESCRIPTION:Rusquitaller: Un mar de colors
URI:https://www.viladepiera.cat/actualitat/agenda/rusquitaller-un-mar-de-colors.html
CLASS:PUBLIC
END:VEVENT
END:VCALENDAR
