BEGIN:VCALENDAR
VERSION:2.0
CALSCALE:GREGORIAN
PRODID:-//Diputació de Barcelona//DibaCMS//EN
BEGIN:VEVENT
UID:23568
DTSTAMP:20260422T010244
DTSTART:20130118T190000
DTEND:20130118T000000
SUMMARY:Delenda est Hispania
LOCATION:
METHOD:PUBLISH
X-WR-CALNAME:e-seu@ajpiera.cat
X-WR-TIMEZONE:Europe/Madrid
DESCRIPTION:Delenda est Hispania
URI:https://www.viladepiera.cat/actualitat/agenda/delenda-est-hispania.html
CLASS:PUBLIC
END:VEVENT
END:VCALENDAR
