BEGIN:VCALENDAR
VERSION:2.0
CALSCALE:GREGORIAN
PRODID:-//Diputació de Barcelona//DibaCMS//EN
BEGIN:VEVENT
UID:23569
DTSTAMP:20260422T212457
DTSTART:20111011T090000
DTEND:20111011T110000
SUMMARY:Matí de salut
LOCATION:
METHOD:PUBLISH
X-WR-CALNAME:e-seu@ajpiera.cat
X-WR-TIMEZONE:Europe/Madrid
DESCRIPTION:Matí de salut
URI:https://www.viladepiera.cat/actualitat/agenda/mati-de-salut.html
CLASS:PUBLIC
END:VEVENT
END:VCALENDAR
