BEGIN:VCALENDAR
VERSION:2.0
CALSCALE:GREGORIAN
PRODID:-//Diputació de Barcelona//DibaCMS//EN
BEGIN:VEVENT
UID:23570
DTSTAMP:20260421T181016
DTSTART:20130119T180000
DTEND:20130119T000000
SUMMARY:Club de lectura infantil: Dies de classe
LOCATION:
METHOD:PUBLISH
X-WR-CALNAME:e-seu@ajpiera.cat
X-WR-TIMEZONE:Europe/Madrid
DESCRIPTION:Club de lectura infantil: Dies de classe
URI:https://www.viladepiera.cat/actualitat/agenda/23570-club-de-lectura-infantil-dies-de-classe.html
CLASS:PUBLIC
END:VEVENT
END:VCALENDAR
