BEGIN:VCALENDAR
VERSION:2.0
CALSCALE:GREGORIAN
PRODID:-//Diputació de Barcelona//DibaCMS//EN
BEGIN:VEVENT
UID:23571
DTSTAMP:20260422T045253
DTSTART:20130119T213000
DTEND:20130119T000000
SUMMARY:Sopar del Concurs de Teatre
LOCATION:
METHOD:PUBLISH
X-WR-CALNAME:e-seu@ajpiera.cat
X-WR-TIMEZONE:Europe/Madrid
DESCRIPTION:Sopar del Concurs de Teatre
URI:https://www.viladepiera.cat/actualitat/agenda/sopar-del-concurs-de-teatre.html
CLASS:PUBLIC
END:VEVENT
END:VCALENDAR
