BEGIN:VCALENDAR
VERSION:2.0
CALSCALE:GREGORIAN
PRODID:-//Diputació de Barcelona//DibaCMS//EN
BEGIN:VEVENT
UID:23573
DTSTAMP:20260422T213810
DTSTART:20111012T111500
DTEND:20111012T000000
SUMMARY:Ofici religiós
LOCATION:
METHOD:PUBLISH
X-WR-CALNAME:e-seu@ajpiera.cat
X-WR-TIMEZONE:Europe/Madrid
DESCRIPTION:Ofici religiós
URI:https://www.viladepiera.cat/actualitat/agenda/23573-ofici-religios.html
CLASS:PUBLIC
END:VEVENT
END:VCALENDAR
