BEGIN:VCALENDAR
VERSION:2.0
CALSCALE:GREGORIAN
PRODID:-//Diputació de Barcelona//DibaCMS//EN
BEGIN:VEVENT
UID:23575
DTSTAMP:20260421T190446
DTSTART:20130121T153000
DTEND:20130121T000000
SUMMARY:Concurs: La travessa dels Òscar
LOCATION:
METHOD:PUBLISH
X-WR-CALNAME:e-seu@ajpiera.cat
X-WR-TIMEZONE:Europe/Madrid
DESCRIPTION:Concurs: La travessa dels Òscar
URI:https://www.viladepiera.cat/actualitat/agenda/23575-concurs-la-travessa-dels-oscar.html
CLASS:PUBLIC
END:VEVENT
END:VCALENDAR
