BEGIN:VCALENDAR
VERSION:2.0
CALSCALE:GREGORIAN
PRODID:-//Diputació de Barcelona//DibaCMS//EN
BEGIN:VEVENT
UID:23578
DTSTAMP:20260422T051222
DTSTART:20130122T190000
DTEND:20130122T000000
SUMMARY:Com han canviat les coses
LOCATION:
METHOD:PUBLISH
X-WR-CALNAME:e-seu@ajpiera.cat
X-WR-TIMEZONE:Europe/Madrid
DESCRIPTION:Com han canviat les coses
URI:https://www.viladepiera.cat/actualitat/agenda/com-han-canviat-les-coses.html
CLASS:PUBLIC
END:VEVENT
END:VCALENDAR
