BEGIN:VCALENDAR
VERSION:2.0
CALSCALE:GREGORIAN
PRODID:-//Diputació de Barcelona//DibaCMS//EN
BEGIN:VEVENT
UID:23579
DTSTAMP:20260421T163559
DTSTART:20130123T190000
DTEND:20130123T000000
SUMMARY:Xerrada: Això és art
LOCATION:
METHOD:PUBLISH
X-WR-CALNAME:e-seu@ajpiera.cat
X-WR-TIMEZONE:Europe/Madrid
DESCRIPTION:Xerrada: Això és art
URI:https://www.viladepiera.cat/actualitat/agenda/xerrada-aixo-es-art.html
CLASS:PUBLIC
END:VEVENT
END:VCALENDAR
