BEGIN:VCALENDAR
VERSION:2.0
CALSCALE:GREGORIAN
PRODID:-//Diputació de Barcelona//DibaCMS//EN
BEGIN:VEVENT
UID:23582
DTSTAMP:20260421T112852
DTSTART:20130125T190000
DTEND:20130125T190000
SUMMARY:Divendres de cine: El baile de la victoria
LOCATION:
METHOD:PUBLISH
X-WR-CALNAME:e-seu@ajpiera.cat
X-WR-TIMEZONE:Europe/Madrid
DESCRIPTION:Divendres de cine: El baile de la victoria

URI:https://www.viladepiera.cat/actualitat/agenda/divendres-de-cine-el-baile-de-la-victoria.html
CLASS:PUBLIC
END:VEVENT
END:VCALENDAR
