BEGIN:VCALENDAR
VERSION:2.0
CALSCALE:GREGORIAN
PRODID:-//Diputació de Barcelona//DibaCMS//EN
BEGIN:VEVENT
UID:23583
DTSTAMP:20260421T111742
DTSTART:20130125T123000
DTEND:20130125T123000
SUMMARY:Sessió formativa activitats lleure
LOCATION:
METHOD:PUBLISH
X-WR-CALNAME:e-seu@ajpiera.cat
X-WR-TIMEZONE:Europe/Madrid
DESCRIPTION:Sessió formativa activitats lleure

URI:https://www.viladepiera.cat/actualitat/agenda/sessio-formativa-activitats-lleure.html
CLASS:PUBLIC
END:VEVENT
END:VCALENDAR
