BEGIN:VCALENDAR
VERSION:2.0
CALSCALE:GREGORIAN
PRODID:-//Diputació de Barcelona//DibaCMS//EN
BEGIN:VEVENT
UID:23585
DTSTAMP:20260421T235248
DTSTART:20130126T100000
DTEND:20130126T220000
SUMMARY:6a Marató de la sang
LOCATION:
METHOD:PUBLISH
X-WR-CALNAME:e-seu@ajpiera.cat
X-WR-TIMEZONE:Europe/Madrid
DESCRIPTION:6a Marató de la sang
URI:https://www.viladepiera.cat/actualitat/agenda/6a-marato-de-la-sang.html
CLASS:PUBLIC
END:VEVENT
END:VCALENDAR
