BEGIN:VCALENDAR
VERSION:2.0
CALSCALE:GREGORIAN
PRODID:-//Diputació de Barcelona//DibaCMS//EN
BEGIN:VEVENT
UID:23587
DTSTAMP:20260421T161616
DTSTART:20130127T100000
DTEND:20130127T000000
SUMMARY:Els Tres Tombs
LOCATION:
METHOD:PUBLISH
X-WR-CALNAME:e-seu@ajpiera.cat
X-WR-TIMEZONE:Europe/Madrid
DESCRIPTION:Els Tres Tombs
URI:https://www.viladepiera.cat/actualitat/agenda/els-tres-tombs.html
CLASS:PUBLIC
END:VEVENT
END:VCALENDAR
