BEGIN:VCALENDAR
VERSION:2.0
CALSCALE:GREGORIAN
PRODID:-//Diputació de Barcelona//DibaCMS//EN
BEGIN:VEVENT
UID:23590
DTSTAMP:20260421T100033
DTSTART:20130131T173000
DTEND:20130131T000000
SUMMARY:Mini-Rusqui: Balla, balla, papallona
LOCATION:
METHOD:PUBLISH
X-WR-CALNAME:e-seu@ajpiera.cat
X-WR-TIMEZONE:Europe/Madrid
DESCRIPTION:Mini-Rusqui: Balla, balla, papallona
URI:https://www.viladepiera.cat/actualitat/agenda/mini-rusqui-balla-balla-papallona.html
CLASS:PUBLIC
END:VEVENT
END:VCALENDAR
