BEGIN:VCALENDAR
VERSION:2.0
CALSCALE:GREGORIAN
PRODID:-//Diputació de Barcelona//DibaCMS//EN
BEGIN:VEVENT
UID:23591
DTSTAMP:20260421T184109
DTSTART:20130131T000000
DTEND:20130131T000000
SUMMARY:Tall d'aigua: El Grandet
LOCATION:
METHOD:PUBLISH
X-WR-CALNAME:e-seu@ajpiera.cat
X-WR-TIMEZONE:Europe/Madrid
DESCRIPTION:Tall d'aigua: El Grandet
URI:https://www.viladepiera.cat/actualitat/agenda/tall-daigua-el-grandet.html
CLASS:PUBLIC
END:VEVENT
END:VCALENDAR
