BEGIN:VCALENDAR
VERSION:2.0
CALSCALE:GREGORIAN
PRODID:-//Diputació de Barcelona//DibaCMS//EN
BEGIN:VEVENT
UID:23593
DTSTAMP:20260421T120332
DTSTART:20130201T233000
DTEND:20130201T233000
SUMMARY:Nits temàtiques a l'Espai d'Entitats
LOCATION:
METHOD:PUBLISH
X-WR-CALNAME:e-seu@ajpiera.cat
X-WR-TIMEZONE:Europe/Madrid
DESCRIPTION:Nits temàtiques a l'Espai d'Entitats

URI:https://www.viladepiera.cat/actualitat/agenda/nits-tematiques-a-lespai-dentitats.html
CLASS:PUBLIC
END:VEVENT
END:VCALENDAR
