BEGIN:VCALENDAR
VERSION:2.0
CALSCALE:GREGORIAN
PRODID:-//Diputació de Barcelona//DibaCMS//EN
BEGIN:VEVENT
UID:23594
DTSTAMP:20260422T010343
DTSTART:20130201T153000
DTEND:20130201T153000
SUMMARY:Inici d'exposició: Viatgers del món
LOCATION:
METHOD:PUBLISH
X-WR-CALNAME:e-seu@ajpiera.cat
X-WR-TIMEZONE:Europe/Madrid
DESCRIPTION:Inici d'exposició: Viatgers del món

URI:https://www.viladepiera.cat/actualitat/agenda/inici-dexposicio-viatgers-del-mon.html
CLASS:PUBLIC
END:VEVENT
END:VCALENDAR
