BEGIN:VCALENDAR
VERSION:2.0
CALSCALE:GREGORIAN
PRODID:-//Diputació de Barcelona//DibaCMS//EN
BEGIN:VEVENT
UID:23595
DTSTAMP:20260423T061414
DTSTART:20111016T000000
DTEND:20111016T000000
SUMMARY:Romeria arxiprestal a Montserrat
LOCATION:
METHOD:PUBLISH
X-WR-CALNAME:e-seu@ajpiera.cat
X-WR-TIMEZONE:Europe/Madrid
DESCRIPTION:Romeria arxiprestal a Montserrat
URI:https://www.viladepiera.cat/actualitat/agenda/romeria-arxiprestal-a-montserrat.html
CLASS:PUBLIC
END:VEVENT
END:VCALENDAR
