BEGIN:VCALENDAR
VERSION:2.0
CALSCALE:GREGORIAN
PRODID:-//Diputació de Barcelona//DibaCMS//EN
BEGIN:VEVENT
UID:23602
DTSTAMP:20260422T162654
DTSTART:20111019T190000
DTEND:20111019T000000
SUMMARY:Xerrada: La banca ètica
LOCATION:
METHOD:PUBLISH
X-WR-CALNAME:e-seu@ajpiera.cat
X-WR-TIMEZONE:Europe/Madrid
DESCRIPTION:Xerrada: La banca ètica
URI:https://www.viladepiera.cat/actualitat/agenda/xerrada-la-banca-etica.html
CLASS:PUBLIC
END:VEVENT
END:VCALENDAR
