BEGIN:VCALENDAR
VERSION:2.0
CALSCALE:GREGORIAN
PRODID:-//Diputació de Barcelona//DibaCMS//EN
BEGIN:VEVENT
UID:23604
DTSTAMP:20260419T155019
DTSTART:20130205T180000
DTEND:20130205T000000
SUMMARY:Club de lectura infantil: Tristany i Isolda
LOCATION:
METHOD:PUBLISH
X-WR-CALNAME:e-seu@ajpiera.cat
X-WR-TIMEZONE:Europe/Madrid
DESCRIPTION:Club de lectura infantil: Tristany i Isolda
URI:https://www.viladepiera.cat/actualitat/agenda/club-de-lectura-infantil-tristany-i-isolda.html
CLASS:PUBLIC
END:VEVENT
END:VCALENDAR
