BEGIN:VCALENDAR
VERSION:2.0
CALSCALE:GREGORIAN
PRODID:-//Diputació de Barcelona//DibaCMS//EN
BEGIN:VEVENT
UID:23605
DTSTAMP:20260422T150311
DTSTART:20111020T100000
DTEND:20111020T000000
SUMMARY:Visita de Marc Castells als PQPI
LOCATION:
METHOD:PUBLISH
X-WR-CALNAME:e-seu@ajpiera.cat
X-WR-TIMEZONE:Europe/Madrid
DESCRIPTION:Visita de Marc Castells als PQPI
URI:https://www.viladepiera.cat/actualitat/agenda/visita-de-marc-castells-als-pqpi.html
CLASS:PUBLIC
END:VEVENT
END:VCALENDAR
