BEGIN:VCALENDAR
VERSION:2.0
CALSCALE:GREGORIAN
PRODID:-//Diputació de Barcelona//DibaCMS//EN
BEGIN:VEVENT
UID:23608
DTSTAMP:20260421T161830
DTSTART:20130208T154500
DTEND:20130208T154500
SUMMARY:Carnaval a les escoles
LOCATION:
METHOD:PUBLISH
X-WR-CALNAME:e-seu@ajpiera.cat
X-WR-TIMEZONE:Europe/Madrid
DESCRIPTION:Carnaval a les escoles

URI:https://www.viladepiera.cat/actualitat/agenda/carnaval-a-les-escoles.html
CLASS:PUBLIC
END:VEVENT
END:VCALENDAR
