BEGIN:VCALENDAR
VERSION:2.0
CALSCALE:GREGORIAN
PRODID:-//Diputació de Barcelona//DibaCMS//EN
BEGIN:VEVENT
UID:23609
DTSTAMP:20260422T185539
DTSTART:20111021T193000
DTEND:20111021T213000
SUMMARY:Taller: Adaptar estatuts a la nova llei d'associacions
LOCATION:
METHOD:PUBLISH
X-WR-CALNAME:e-seu@ajpiera.cat
X-WR-TIMEZONE:Europe/Madrid
DESCRIPTION:Taller: Adaptar estatuts a la nova llei d'associacions
URI:https://www.viladepiera.cat/actualitat/agenda/taller-adaptar-estatuts-a-la-nova-llei-dassociacions.html
CLASS:PUBLIC
END:VEVENT
END:VCALENDAR
