BEGIN:VCALENDAR
VERSION:2.0
CALSCALE:GREGORIAN
PRODID:-//Diputació de Barcelona//DibaCMS//EN
BEGIN:VEVENT
UID:23610
DTSTAMP:20260422T061441
DTSTART:20130209T203000
DTEND:20130209T203000
SUMMARY:Rua del Carnaval
LOCATION:
METHOD:PUBLISH
X-WR-CALNAME:e-seu@ajpiera.cat
X-WR-TIMEZONE:Europe/Madrid
DESCRIPTION:Rua del Carnaval

URI:https://www.viladepiera.cat/actualitat/agenda/rua-del-carnaval.html
CLASS:PUBLIC
END:VEVENT
END:VCALENDAR
