BEGIN:VCALENDAR
VERSION:2.0
CALSCALE:GREGORIAN
PRODID:-//Diputació de Barcelona//DibaCMS//EN
BEGIN:VEVENT
UID:23611
DTSTAMP:20260422T034106
DTSTART:20130209T100000
DTEND:20130209T140000
SUMMARY:La paraula en el cos
LOCATION:
METHOD:PUBLISH
X-WR-CALNAME:e-seu@ajpiera.cat
X-WR-TIMEZONE:Europe/Madrid
DESCRIPTION:La paraula en el cos
URI:https://www.viladepiera.cat/actualitat/agenda/la-paraula-en-el-cos.html
CLASS:PUBLIC
END:VEVENT
END:VCALENDAR
