BEGIN:VCALENDAR
VERSION:2.0
CALSCALE:GREGORIAN
PRODID:-//Diputació de Barcelona//DibaCMS//EN
BEGIN:VEVENT
UID:23612
DTSTAMP:20260423T000627
DTSTART:20111021T190000
DTEND:20111021T000000
SUMMARY:Conferència sobre Joan Maragall
LOCATION:
METHOD:PUBLISH
X-WR-CALNAME:e-seu@ajpiera.cat
X-WR-TIMEZONE:Europe/Madrid
DESCRIPTION:Conferència sobre Joan Maragall
URI:https://www.viladepiera.cat/actualitat/agenda/conferencia-sobre-joan-maragall.html
CLASS:PUBLIC
END:VEVENT
END:VCALENDAR
