BEGIN:VCALENDAR
VERSION:2.0
CALSCALE:GREGORIAN
PRODID:-//Diputació de Barcelona//DibaCMS//EN
BEGIN:VEVENT
UID:23614
DTSTAMP:20260421T174052
DTSTART:20130210T173000
DTEND:20130210T000000
SUMMARY:Carnaval infantil
LOCATION:
METHOD:PUBLISH
X-WR-CALNAME:e-seu@ajpiera.cat
X-WR-TIMEZONE:Europe/Madrid
DESCRIPTION:Carnaval infantil
URI:https://www.viladepiera.cat/actualitat/agenda/23614-carnaval-infantil.html
CLASS:PUBLIC
END:VEVENT
END:VCALENDAR
