BEGIN:VCALENDAR
VERSION:2.0
CALSCALE:GREGORIAN
PRODID:-//Diputació de Barcelona//DibaCMS//EN
BEGIN:VEVENT
UID:23615
DTSTAMP:20260422T121835
DTSTART:20111023T160000
DTEND:20111023T180000
SUMMARY:Lip dub Marató PTV
LOCATION:
METHOD:PUBLISH
X-WR-CALNAME:e-seu@ajpiera.cat
X-WR-TIMEZONE:Europe/Madrid
DESCRIPTION:Lip dub Marató PTV

URI:https://www.viladepiera.cat/actualitat/agenda/lip-dub-marato-ptv.html
CLASS:PUBLIC
END:VEVENT
END:VCALENDAR
