BEGIN:VCALENDAR
VERSION:2.0
CALSCALE:GREGORIAN
PRODID:-//Diputació de Barcelona//DibaCMS//EN
BEGIN:VEVENT
UID:23617
DTSTAMP:20260421T174321
DTSTART:20130213T180000
DTEND:20130213T000000
SUMMARY:Rusquicontes: Vet aquí que un i un sempre fan dos
LOCATION:
METHOD:PUBLISH
X-WR-CALNAME:e-seu@ajpiera.cat
X-WR-TIMEZONE:Europe/Madrid
DESCRIPTION:Rusquicontes: Vet aquí que un i un sempre fan dos
URI:https://www.viladepiera.cat/actualitat/agenda/rusquicontes-vet-aqui-que-un-i-un-sempre-fan-dos.html
CLASS:PUBLIC
END:VEVENT
END:VCALENDAR
